Package: fmrs Version: 1.14.0 Command: /Library/Frameworks/R.framework/Resources/bin/R CMD build --keep-empty-dirs --no-resave-data fmrs StartedAt: 2024-10-17 00:41:43 -0400 (Thu, 17 Oct 2024) EndedAt: 2024-10-17 00:42:01 -0400 (Thu, 17 Oct 2024) EllapsedTime: 18.0 seconds RetCode: 0 Status: OK PackageFile: fmrs_1.14.0.tar.gz PackageFileSize: 47 KiB