Package: fmcsR Version: 1.46.0 Command: chmod a+r fmcsR -R && F:\biocbuild\bbs-3.19-bioc\R\bin\R.exe CMD build --keep-empty-dirs --no-resave-data fmcsR StartedAt: 2024-06-26 19:00:15 -0400 (Wed, 26 Jun 2024) EndedAt: 2024-06-26 19:01:10 -0400 (Wed, 26 Jun 2024) EllapsedTime: 54.5 seconds RetCode: 0 Status: OK PackageFile: fmcsR_1.46.0.tar.gz PackageFileSize: 467.8 KiB