Package: fmcsR Version: 1.46.0 Command: rm -rf fmcsR.buildbin-libdir && mkdir fmcsR.buildbin-libdir && /Users/biocbuild/BBS/utils/build-universal.sh fmcsR_1.46.0.tar.gz /Library/Frameworks/R.framework/Resources/bin/R fmcsR.buildbin-libdir StartedAt: 2024-10-17 16:11:12 -0400 (Thu, 17 Oct 2024) EndedAt: 2024-10-17 16:12:09 -0400 (Thu, 17 Oct 2024) EllapsedTime: 57.1 seconds RetCode: 0 Status: OK PackageFile: fmcsR_1.46.0.tgz PackageFileSize: 1017 KiB