Package: fmcsR Version: 1.46.0 Command: /Library/Frameworks/R.framework/Resources/bin/R CMD INSTALL fmcsR StartedAt: 2024-10-16 18:36:18 -0400 (Wed, 16 Oct 2024) EndedAt: 2024-10-16 18:36:44 -0400 (Wed, 16 Oct 2024) EllapsedTime: 26.0 seconds RetCode: 0 Status: OK