Package: flowcatchR Version: 1.38.0 Command: /Library/Frameworks/R.framework/Resources/bin/R CMD build --keep-empty-dirs --no-resave-data flowcatchR StartedAt: 2024-10-17 00:34:33 -0400 (Thu, 17 Oct 2024) EndedAt: 2024-10-17 00:35:25 -0400 (Thu, 17 Oct 2024) EllapsedTime: 52.1 seconds RetCode: 0 Status: OK PackageFile: flowcatchR_1.38.0.tar.gz PackageFileSize: 6.918 MiB