Package: flowWorkspace Version: 4.16.0 Command: F:\biocbuild\bbs-3.19-bioc\R\bin\R.exe CMD INSTALL flowWorkspace StartedAt: 2024-06-26 15:59:33 -0400 (Wed, 26 Jun 2024) EndedAt: 2024-06-26 16:03:27 -0400 (Wed, 26 Jun 2024) EllapsedTime: 234.1 seconds RetCode: 0 Status: OK