Package: flowWorkspace Version: 4.16.0 Command: F:\biocbuild\bbs-3.19-bioc\R\bin\R.exe CMD check --no-multiarch --install=check:flowWorkspace.install-out.txt --library=F:\biocbuild\bbs-3.19-bioc\R\library --no-vignettes --timings flowWorkspace_4.16.0.tar.gz StartedAt: 2024-06-27 01:45:54 -0400 (Thu, 27 Jun 2024) EndedAt: 2024-06-27 01:52:11 -0400 (Thu, 27 Jun 2024) EllapsedTime: 377.0 seconds RetCode: 0 Status: WARNINGS CheckDir: flowWorkspace.Rcheck Warnings: 5