Package: flowWorkspace Version: 4.16.0 Command: chmod a+r flowWorkspace -R && F:\biocbuild\bbs-3.19-bioc\R\bin\R.exe CMD build --keep-empty-dirs --no-resave-data flowWorkspace StartedAt: 2024-06-26 19:00:02 -0400 (Wed, 26 Jun 2024) EndedAt: 2024-06-26 19:04:05 -0400 (Wed, 26 Jun 2024) EllapsedTime: 242.8 seconds RetCode: 0 Status: OK PackageFile: flowWorkspace_4.16.0.tar.gz PackageFileSize: 3.781 MiB