Package: flowWorkspace Version: 4.16.0 Command: rm -rf flowWorkspace.buildbin-libdir && mkdir flowWorkspace.buildbin-libdir && F:\biocbuild\bbs-3.19-bioc\R\bin\R.exe CMD INSTALL --build --library=flowWorkspace.buildbin-libdir flowWorkspace_4.16.0.tar.gz StartedAt: 2024-06-27 08:14:04 -0400 (Thu, 27 Jun 2024) EndedAt: 2024-06-27 08:17:31 -0400 (Thu, 27 Jun 2024) EllapsedTime: 206.1 seconds RetCode: 0 Status: OK PackageFile: flowWorkspace_4.16.0.zip PackageFileSize: 5.225 MiB