Package: flowWorkspace Version: 4.16.0 Command: /home/biocbuild/bbs-3.19-bioc/R/bin/R CMD INSTALL flowWorkspace StartedAt: 2024-10-16 15:59:27 -0400 (Wed, 16 Oct 2024) EndedAt: 2024-10-16 16:01:39 -0400 (Wed, 16 Oct 2024) EllapsedTime: 131.7 seconds RetCode: 0 Status: OK