Package: flowWorkspace Version: 4.16.0 Command: /home/biocbuild/bbs-3.19-bioc/R/bin/R CMD check --install=check:flowWorkspace.install-out.txt --library=/home/biocbuild/bbs-3.19-bioc/R/site-library --timings flowWorkspace_4.16.0.tar.gz StartedAt: 2024-10-17 00:32:10 -0400 (Thu, 17 Oct 2024) EndedAt: 2024-10-17 00:35:36 -0400 (Thu, 17 Oct 2024) EllapsedTime: 206.5 seconds RetCode: 0 Status: WARNINGS CheckDir: flowWorkspace.Rcheck Warnings: 5