Package: flowWorkspace Version: 4.16.0 Command: /home/biocbuild/bbs-3.19-bioc/R/bin/R CMD build --keep-empty-dirs --no-resave-data flowWorkspace StartedAt: 2024-10-16 18:33:14 -0400 (Wed, 16 Oct 2024) EndedAt: 2024-10-16 18:35:55 -0400 (Wed, 16 Oct 2024) EllapsedTime: 161.4 seconds RetCode: 0 Status: OK PackageFile: flowWorkspace_4.16.0.tar.gz PackageFileSize: 4.391 MiB