Package: flowWorkspace Version: 4.16.0 Command: /Library/Frameworks/R.framework/Resources/bin/R CMD build --keep-empty-dirs --no-resave-data flowWorkspace StartedAt: 2024-06-09 16:41:50 -0400 (Sun, 09 Jun 2024) EndedAt: 2024-06-09 16:44:18 -0400 (Sun, 09 Jun 2024) EllapsedTime: 148.6 seconds RetCode: 0 Status: OK PackageFile: flowWorkspace_4.16.0.tar.gz PackageFileSize: 5.707 MiB