Package: flowWorkspace Version: 4.16.0 Command: /home/biocbuild/R/R-beta-2024-04-15_r86425/bin/R CMD build --keep-empty-dirs --no-resave-data flowWorkspace StartedAt: 2024-05-09 00:22:13 -0000 (Thu, 09 May 2024) EndedAt: 2024-05-09 00:26:36 -0000 (Thu, 09 May 2024) EllapsedTime: 263.4 seconds RetCode: 0 Status: OK PackageFile: flowWorkspace_4.16.0.tar.gz PackageFileSize: 4.144 MiB