Package: flowWorkspace Version: 4.16.0 Command: /Library/Frameworks/R.framework/Resources/bin/R CMD check --install=check:flowWorkspace.install-out.txt --library=/Library/Frameworks/R.framework/Resources/library --no-vignettes --timings flowWorkspace_4.16.0.tar.gz StartedAt: 2024-06-10 16:02:59 -0400 (Mon, 10 Jun 2024) EndedAt: 2024-06-10 16:08:19 -0400 (Mon, 10 Jun 2024) EllapsedTime: 320.2 seconds RetCode: 0 Status: WARNINGS CheckDir: flowWorkspace.Rcheck Warnings: 5