Package: flowWorkspace Version: 4.16.0 Command: /Library/Frameworks/R.framework/Resources/bin/R CMD build --keep-empty-dirs --no-resave-data flowWorkspace StartedAt: 2024-10-17 00:41:16 -0400 (Thu, 17 Oct 2024) EndedAt: 2024-10-17 00:43:59 -0400 (Thu, 17 Oct 2024) EllapsedTime: 163.4 seconds RetCode: 0 Status: OK PackageFile: flowWorkspace_4.16.0.tar.gz PackageFileSize: 5.711 MiB