Package: flowViz Version: 1.68.0 Command: /Library/Frameworks/R.framework/Resources/bin/R CMD build --keep-empty-dirs --no-resave-data flowViz StartedAt: 2024-10-17 00:40:16 -0400 (Thu, 17 Oct 2024) EndedAt: 2024-10-17 00:41:43 -0400 (Thu, 17 Oct 2024) EllapsedTime: 86.4 seconds RetCode: 0 Status: OK PackageFile: flowViz_1.68.0.tar.gz PackageFileSize: 1.194 MiB