Package: flowVS Version: 1.36.0 Command: chmod a+r flowVS -R && F:\biocbuild\bbs-3.19-bioc\R\bin\R.exe CMD build --keep-empty-dirs --no-resave-data flowVS StartedAt: 2024-06-26 18:59:51 -0400 (Wed, 26 Jun 2024) EndedAt: 2024-06-26 19:03:03 -0400 (Wed, 26 Jun 2024) EllapsedTime: 192.5 seconds RetCode: 0 Status: OK PackageFile: flowVS_1.36.0.tar.gz PackageFileSize: 3.694 MiB