Package: flowVS Version: 1.36.0 Command: rm -rf flowVS.buildbin-libdir && mkdir flowVS.buildbin-libdir && F:\biocbuild\bbs-3.19-bioc\R\bin\R.exe CMD INSTALL --build --library=flowVS.buildbin-libdir flowVS_1.36.0.tar.gz StartedAt: 2024-06-27 08:14:03 -0400 (Thu, 27 Jun 2024) EndedAt: 2024-06-27 08:14:32 -0400 (Thu, 27 Jun 2024) EllapsedTime: 29.1 seconds RetCode: 0 Status: OK PackageFile: flowVS_1.36.0.zip PackageFileSize: 3.586 MiB