Package: flowVS Version: 1.36.0 Command: /Library/Frameworks/R.framework/Resources/bin/R CMD check --install=check:flowVS.install-out.txt --library=/Library/Frameworks/R.framework/Resources/library --no-vignettes --timings flowVS_1.36.0.tar.gz StartedAt: 2024-06-09 20:26:51 -0400 (Sun, 09 Jun 2024) EndedAt: 2024-06-09 20:29:07 -0400 (Sun, 09 Jun 2024) EllapsedTime: 135.9 seconds RetCode: 0 Status: OK CheckDir: flowVS.Rcheck Warnings: 0