Package: flowVS Version: 1.36.0 Command: /home/biocbuild/R/R-beta-2024-04-15_r86425/bin/R CMD INSTALL flowVS StartedAt: 2024-05-08 21:09:10 -0000 (Wed, 08 May 2024) EndedAt: 2024-05-08 21:09:30 -0000 (Wed, 08 May 2024) EllapsedTime: 20.3 seconds RetCode: 0 Status: OK