Package: flowVS Version: 1.36.0 Command: /Library/Frameworks/R.framework/Resources/bin/R CMD check --install=check:flowVS.install-out.txt --library=/Library/Frameworks/R.framework/Resources/library --no-vignettes --timings flowVS_1.36.0.tar.gz StartedAt: 2024-10-17 21:59:55 -0400 (Thu, 17 Oct 2024) EndedAt: 2024-10-17 22:02:26 -0400 (Thu, 17 Oct 2024) EllapsedTime: 150.9 seconds RetCode: 0 Status: OK CheckDir: flowVS.Rcheck Warnings: 0