Package: flowTrans Version: 1.56.0 Command: /Library/Frameworks/R.framework/Resources/bin/R CMD check --install=check:flowTrans.install-out.txt --library=/Library/Frameworks/R.framework/Resources/library --no-vignettes --timings flowTrans_1.56.0.tar.gz StartedAt: 2024-10-17 05:28:38 -0400 (Thu, 17 Oct 2024) EndedAt: 2024-10-17 05:31:12 -0400 (Thu, 17 Oct 2024) EllapsedTime: 153.8 seconds RetCode: 0 Status: OK CheckDir: flowTrans.Rcheck Warnings: 0