Package: flowTime Version: 1.28.0 Command: E:\biocbuild\bbs-3.19-bioc\R\bin\R.exe CMD INSTALL flowTime StartedAt: 2024-10-16 16:20:07 -0400 (Wed, 16 Oct 2024) EndedAt: 2024-10-16 16:20:29 -0400 (Wed, 16 Oct 2024) EllapsedTime: 22.1 seconds RetCode: 0 Status: OK