Package: flowTime Version: 1.28.0 Command: chmod a+r flowTime -R && E:\biocbuild\bbs-3.19-bioc\R\bin\R.exe CMD build --keep-empty-dirs --no-resave-data flowTime StartedAt: 2024-10-16 19:15:32 -0400 (Wed, 16 Oct 2024) EndedAt: 2024-10-16 19:16:17 -0400 (Wed, 16 Oct 2024) EllapsedTime: 44.7 seconds RetCode: 0 Status: OK PackageFile: flowTime_1.28.0.tar.gz PackageFileSize: 2.192 MiB