Package: flowTime Version: 1.28.0 Command: rm -rf flowTime.buildbin-libdir && mkdir flowTime.buildbin-libdir && E:\biocbuild\bbs-3.19-bioc\R\bin\R.exe CMD INSTALL --build --library=flowTime.buildbin-libdir flowTime_1.28.0.tar.gz StartedAt: 2024-10-17 07:48:43 -0400 (Thu, 17 Oct 2024) EndedAt: 2024-10-17 07:49:08 -0400 (Thu, 17 Oct 2024) EllapsedTime: 25.2 seconds RetCode: 0 Status: OK PackageFile: flowTime_1.28.0.zip PackageFileSize: 2.301 MiB