Package: flowTime Version: 1.28.0 Command: rm -rf flowTime.buildbin-libdir && mkdir flowTime.buildbin-libdir && F:\biocbuild\bbs-3.19-bioc\R\bin\R.exe CMD INSTALL --build --library=flowTime.buildbin-libdir flowTime_1.28.0.tar.gz StartedAt: 2024-06-27 08:13:55 -0400 (Thu, 27 Jun 2024) EndedAt: 2024-06-27 08:14:27 -0400 (Thu, 27 Jun 2024) EllapsedTime: 32.2 seconds RetCode: 0 Status: OK PackageFile: flowTime_1.28.0.zip PackageFileSize: 2.301 MiB