Package: flowTime Version: 1.28.0 Command: /Library/Frameworks/R.framework/Resources/bin/R CMD check --install=check:flowTime.install-out.txt --library=/Library/Frameworks/R.framework/Resources/library --no-vignettes --timings flowTime_1.28.0.tar.gz StartedAt: 2024-06-09 20:26:45 -0400 (Sun, 09 Jun 2024) EndedAt: 2024-06-09 20:28:07 -0400 (Sun, 09 Jun 2024) EllapsedTime: 81.6 seconds RetCode: 0 Status: OK CheckDir: flowTime.Rcheck Warnings: 0