Package: flowTime Version: 1.28.0 Command: /home/biocbuild/R/R-beta-2024-04-15_r86425/bin/R CMD check --install=check:flowTime.install-out.txt --library=/home/biocbuild/R/R-beta-2024-04-15_r86425/site-library --no-vignettes --timings flowTime_1.28.0.tar.gz StartedAt: 2024-05-09 07:30:19 -0000 (Thu, 09 May 2024) EndedAt: 2024-05-09 07:31:40 -0000 (Thu, 09 May 2024) EllapsedTime: 81.2 seconds RetCode: 0 Status: OK CheckDir: flowTime.Rcheck Warnings: 0