Package: flowTime Version: 1.28.0 Maintainer: R. Clay Wright MaintainerEmail: wright.clay at gmail.com git_url: https://git.bioconductor.org/packages/flowTime git_branch: RELEASE_3_19 git_last_commit: 31ee291 git_last_commit_date: 2024-04-30 10:57:13 -0400 (Tue, 30 Apr 2024)