Package: flowStats Version: 4.16.0 Command: chmod a+r flowStats -R && F:\biocbuild\bbs-3.19-bioc\R\bin\R.exe CMD build --keep-empty-dirs --no-resave-data flowStats StartedAt: 2024-06-26 18:59:36 -0400 (Wed, 26 Jun 2024) EndedAt: 2024-06-26 19:01:50 -0400 (Wed, 26 Jun 2024) EllapsedTime: 134.2 seconds RetCode: 0 Status: OK PackageFile: flowStats_4.16.0.tar.gz PackageFileSize: 10.96 MiB