Package: flowStats Version: 4.16.0 Command: /Library/Frameworks/R.framework/Resources/bin/R CMD INSTALL flowStats StartedAt: 2024-10-16 16:53:09 -0400 (Wed, 16 Oct 2024) EndedAt: 2024-10-16 16:54:08 -0400 (Wed, 16 Oct 2024) EllapsedTime: 59.1 seconds RetCode: 0 Status: OK