Package: flowStats Version: 4.16.0 Command: /Library/Frameworks/R.framework/Resources/bin/R CMD check --install=check:flowStats.install-out.txt --library=/Library/Frameworks/R.framework/Resources/library --no-vignettes --timings flowStats_4.16.0.tar.gz StartedAt: 2024-06-09 20:26:40 -0400 (Sun, 09 Jun 2024) EndedAt: 2024-06-09 20:30:07 -0400 (Sun, 09 Jun 2024) EllapsedTime: 207.0 seconds RetCode: 0 Status: WARNINGS CheckDir: flowStats.Rcheck Warnings: 4