Package: flowSpecs Version: 1.18.0 Command: rm -rf flowSpecs.buildbin-libdir && mkdir flowSpecs.buildbin-libdir && /Users/biocbuild/BBS/utils/build-universal.sh flowSpecs_1.18.0.tar.gz /Library/Frameworks/R.framework/Resources/bin/R flowSpecs.buildbin-libdir StartedAt: 2024-10-17 16:11:00 -0400 (Thu, 17 Oct 2024) EndedAt: 2024-10-17 16:11:26 -0400 (Thu, 17 Oct 2024) EllapsedTime: 26.0 seconds RetCode: 0 Status: OK PackageFile: flowSpecs_1.18.0.tgz PackageFileSize: 4.714 MiB