Package: flowSpecs Version: 1.18.0 Command: /Library/Frameworks/R.framework/Resources/bin/R CMD INSTALL flowSpecs StartedAt: 2024-10-16 16:21:57 -0400 (Wed, 16 Oct 2024) EndedAt: 2024-10-16 16:22:09 -0400 (Wed, 16 Oct 2024) EllapsedTime: 11.3 seconds RetCode: 0 Status: OK