Package: flowSpecs Version: 1.18.0 Command: /Library/Frameworks/R.framework/Resources/bin/R CMD build --keep-empty-dirs --no-resave-data flowSpecs StartedAt: 2024-10-17 00:39:33 -0400 (Thu, 17 Oct 2024) EndedAt: 2024-10-17 00:40:11 -0400 (Thu, 17 Oct 2024) EllapsedTime: 37.4 seconds RetCode: 0 Status: OK PackageFile: flowSpecs_1.18.0.tar.gz PackageFileSize: 4.663 MiB