Package: flowPlots Version: 1.52.0 Command: E:\biocbuild\bbs-3.19-bioc\R\bin\R.exe CMD check --no-multiarch --install=check:flowPlots.install-out.txt --library=E:\biocbuild\bbs-3.19-bioc\R\library --no-vignettes --timings flowPlots_1.52.0.tar.gz StartedAt: 2024-10-17 01:33:36 -0400 (Thu, 17 Oct 2024) EndedAt: 2024-10-17 01:34:17 -0400 (Thu, 17 Oct 2024) EllapsedTime: 40.8 seconds RetCode: 0 Status: OK CheckDir: flowPlots.Rcheck Warnings: 0