Package: flowPlots Version: 1.52.0 Command: rm -rf flowPlots.buildbin-libdir && mkdir flowPlots.buildbin-libdir && E:\biocbuild\bbs-3.19-bioc\R\bin\R.exe CMD INSTALL --build --library=flowPlots.buildbin-libdir flowPlots_1.52.0.tar.gz StartedAt: 2024-10-17 07:48:37 -0400 (Thu, 17 Oct 2024) EndedAt: 2024-10-17 07:49:13 -0400 (Thu, 17 Oct 2024) EllapsedTime: 35.6 seconds RetCode: 0 Status: OK PackageFile: flowPlots_1.52.0.zip PackageFileSize: 667.2 KiB