Package: flowPlots Version: 1.52.0 Command: F:\biocbuild\bbs-3.19-bioc\R\bin\R.exe CMD INSTALL flowPlots StartedAt: 2024-06-26 15:38:39 -0400 (Wed, 26 Jun 2024) EndedAt: 2024-06-26 15:38:58 -0400 (Wed, 26 Jun 2024) EllapsedTime: 19.2 seconds RetCode: 0 Status: OK