Package: flowPlots Version: 1.52.0 Command: F:\biocbuild\bbs-3.19-bioc\R\bin\R.exe CMD check --no-multiarch --install=check:flowPlots.install-out.txt --library=F:\biocbuild\bbs-3.19-bioc\R\library --no-vignettes --timings flowPlots_1.52.0.tar.gz StartedAt: 2024-06-27 01:44:36 -0400 (Thu, 27 Jun 2024) EndedAt: 2024-06-27 01:45:30 -0400 (Thu, 27 Jun 2024) EllapsedTime: 54.3 seconds RetCode: 0 Status: OK CheckDir: flowPlots.Rcheck Warnings: 0