Package: flowPlots Version: 1.52.0 Command: chmod a+r flowPlots -R && F:\biocbuild\bbs-3.19-bioc\R\bin\R.exe CMD build --keep-empty-dirs --no-resave-data flowPlots StartedAt: 2024-06-26 18:59:12 -0400 (Wed, 26 Jun 2024) EndedAt: 2024-06-26 18:59:34 -0400 (Wed, 26 Jun 2024) EllapsedTime: 22.5 seconds RetCode: 0 Status: OK PackageFile: flowPlots_1.52.0.tar.gz PackageFileSize: 454.8 KiB