Package: flowPlots Version: 1.52.0 Command: /Library/Frameworks/R.framework/Resources/bin/R CMD check --install=check:flowPlots.install-out.txt --library=/Library/Frameworks/R.framework/Resources/library --no-vignettes --timings flowPlots_1.52.0.tar.gz StartedAt: 2024-06-09 20:26:15 -0400 (Sun, 09 Jun 2024) EndedAt: 2024-06-09 20:26:56 -0400 (Sun, 09 Jun 2024) EllapsedTime: 40.8 seconds RetCode: 0 Status: OK CheckDir: flowPlots.Rcheck Warnings: 0