Package: flowPlots Version: 1.52.0 Command: /Library/Frameworks/R.framework/Resources/bin/R CMD build --keep-empty-dirs --no-resave-data flowPlots StartedAt: 2024-06-09 16:41:01 -0400 (Sun, 09 Jun 2024) EndedAt: 2024-06-09 16:41:30 -0400 (Sun, 09 Jun 2024) EllapsedTime: 29.3 seconds RetCode: 0 Status: OK PackageFile: flowPlots_1.52.0.tar.gz PackageFileSize: 634.9 KiB