Package: flowPlots Version: 1.52.0 Command: /Library/Frameworks/R.framework/Resources/bin/R CMD check --install=check:flowPlots.install-out.txt --library=/Library/Frameworks/R.framework/Resources/library --no-vignettes --timings flowPlots_1.52.0.tar.gz StartedAt: 2024-10-17 21:57:44 -0400 (Thu, 17 Oct 2024) EndedAt: 2024-10-17 21:58:25 -0400 (Thu, 17 Oct 2024) EllapsedTime: 40.9 seconds RetCode: 0 Status: OK CheckDir: flowPlots.Rcheck Warnings: 0