Package: flowPloidy Version: 1.30.0 Command: /home/biocbuild/bbs-3.19-bioc/R/bin/R CMD build --keep-empty-dirs --no-resave-data flowPloidy StartedAt: 2024-10-16 18:32:50 -0400 (Wed, 16 Oct 2024) EndedAt: 2024-10-16 18:33:14 -0400 (Wed, 16 Oct 2024) EllapsedTime: 24.1 seconds RetCode: 0 Status: OK PackageFile: flowPloidy_1.30.0.tar.gz PackageFileSize: 2.332 MiB