Package: flowPloidy Version: 1.30.0 Command: /Library/Frameworks/R.framework/Resources/bin/R CMD INSTALL flowPloidy StartedAt: 2024-10-16 17:52:04 -0400 (Wed, 16 Oct 2024) EndedAt: 2024-10-16 17:52:16 -0400 (Wed, 16 Oct 2024) EllapsedTime: 12.1 seconds RetCode: 0 Status: OK