Package: flowPeaks Version: 1.50.0 Command: F:\biocbuild\bbs-3.19-bioc\R\bin\R.exe CMD check --no-multiarch --install=check:flowPeaks.install-out.txt --library=F:\biocbuild\bbs-3.19-bioc\R\library --no-vignettes --timings flowPeaks_1.50.0.tar.gz StartedAt: 2024-06-27 01:44:28 -0400 (Thu, 27 Jun 2024) EndedAt: 2024-06-27 01:45:49 -0400 (Thu, 27 Jun 2024) EllapsedTime: 81.1 seconds RetCode: 0 Status: OK CheckDir: flowPeaks.Rcheck Warnings: 0