Package: flowPeaks Version: 1.50.0 Command: /home/biocbuild/bbs-3.19-bioc/R/bin/R CMD check --install=check:flowPeaks.install-out.txt --library=/home/biocbuild/bbs-3.19-bioc/R/site-library --timings flowPeaks_1.50.0.tar.gz StartedAt: 2024-10-17 00:30:59 -0400 (Thu, 17 Oct 2024) EndedAt: 2024-10-17 00:31:27 -0400 (Thu, 17 Oct 2024) EllapsedTime: 27.1 seconds RetCode: 0 Status: WARNINGS CheckDir: flowPeaks.Rcheck Warnings: 1