Package: flowPeaks Version: 1.50.0 Command: /home/biocbuild/bbs-3.19-bioc/R/bin/R CMD build --keep-empty-dirs --no-resave-data flowPeaks StartedAt: 2024-10-16 18:32:44 -0400 (Wed, 16 Oct 2024) EndedAt: 2024-10-16 18:33:06 -0400 (Wed, 16 Oct 2024) EllapsedTime: 22.1 seconds RetCode: 0 Status: OK PackageFile: flowPeaks_1.50.0.tar.gz PackageFileSize: 2.55 MiB