Package: flowPeaks Version: 1.50.0 Command: rm -rf flowPeaks.buildbin-libdir && mkdir flowPeaks.buildbin-libdir && /Users/biocbuild/BBS/utils/build-universal.sh flowPeaks_1.50.0.tar.gz /Library/Frameworks/R.framework/Resources/bin/R flowPeaks.buildbin-libdir StartedAt: 2024-06-10 00:18:38 -0400 (Mon, 10 Jun 2024) EndedAt: 2024-06-10 00:18:59 -0400 (Mon, 10 Jun 2024) EllapsedTime: 21.6 seconds RetCode: 0 Status: OK PackageFile: flowPeaks_1.50.0.tgz PackageFileSize: 4.264 MiB